Package: miloR Version: 1.8.1 Command: /home/biocbuild/bbs-3.17-bioc/R/bin/R CMD check --install=check:miloR.install-out.txt --library=/home/biocbuild/bbs-3.17-bioc/R/site-library --timings miloR_1.8.1.tar.gz StartedAt: 2023-10-15 22:50:26 -0400 (Sun, 15 Oct 2023) EndedAt: 2023-10-15 23:03:30 -0400 (Sun, 15 Oct 2023) EllapsedTime: 784.8 seconds RetCode: 0 Status: OK CheckDir: miloR.Rcheck Warnings: 0