Package: miloR Version: 1.8.1 Command: /home/biocbuild/bbs-3.17-bioc/R/bin/R CMD build --keep-empty-dirs --no-resave-data miloR StartedAt: 2023-10-15 17:26:49 -0400 (Sun, 15 Oct 2023) EndedAt: 2023-10-15 17:31:39 -0400 (Sun, 15 Oct 2023) EllapsedTime: 290.5 seconds RetCode: 0 Status: OK PackageFile: miloR_1.8.1.tar.gz PackageFileSize: 5.38 MiB