Package: miloR Version: 1.8.1 Command: /Library/Frameworks/R.framework/Resources/bin/R CMD build --keep-empty-dirs --no-resave-data miloR StartedAt: 2023-10-15 19:30:31 -0400 (Sun, 15 Oct 2023) EndedAt: 2023-10-15 19:40:58 -0400 (Sun, 15 Oct 2023) EllapsedTime: 627.6 seconds RetCode: 0 Status: OK PackageFile: miloR_1.8.1.tar.gz PackageFileSize: 5.539 MiB