Package: midasHLA Version: 1.8.0 Command: chmod a+r midasHLA -R && F:\biocbuild\bbs-3.17-bioc\R\bin\R.exe CMD build --keep-empty-dirs --no-resave-data midasHLA StartedAt: 2023-10-15 20:26:34 -0400 (Sun, 15 Oct 2023) EndedAt: 2023-10-15 20:29:11 -0400 (Sun, 15 Oct 2023) EllapsedTime: 157.2 seconds RetCode: 0 Status: OK PackageFile: midasHLA_1.8.0.tar.gz PackageFileSize: 1.863 MiB