Package: midasHLA Version: 1.8.0 Command: rm -rf midasHLA.buildbin-libdir && mkdir midasHLA.buildbin-libdir && F:\biocbuild\bbs-3.17-bioc\R\bin\R.exe CMD INSTALL --build --library=midasHLA.buildbin-libdir midasHLA_1.8.0.tar.gz StartedAt: 2023-10-16 09:05:14 -0400 (Mon, 16 Oct 2023) EndedAt: 2023-10-16 09:06:07 -0400 (Mon, 16 Oct 2023) EllapsedTime: 53.0 seconds RetCode: 0 Status: OK PackageFile: midasHLA_1.8.0.zip PackageFileSize: 2.776 MiB