Package: microbiomeExplorer Version: 1.10.0 Command: F:\biocbuild\bbs-3.17-bioc\R\bin\R.exe CMD INSTALL microbiomeExplorer StartedAt: 2023-10-15 16:49:52 -0400 (Sun, 15 Oct 2023) EndedAt: 2023-10-15 16:50:17 -0400 (Sun, 15 Oct 2023) EllapsedTime: 25.2 seconds RetCode: 0 Status: OK