Package: microbiomeExplorer Version: 1.10.0 Command: chmod a+r microbiomeExplorer -R && F:\biocbuild\bbs-3.17-bioc\R\bin\R.exe CMD build --keep-empty-dirs --no-resave-data microbiomeExplorer StartedAt: 2023-10-15 20:25:56 -0400 (Sun, 15 Oct 2023) EndedAt: 2023-10-15 20:26:43 -0400 (Sun, 15 Oct 2023) EllapsedTime: 46.6 seconds RetCode: 0 Status: OK PackageFile: microbiomeExplorer_1.10.0.tar.gz PackageFileSize: 2.976 MiB