Package: microbiomeExplorer Version: 1.10.0 Command: rm -rf microbiomeExplorer.buildbin-libdir && mkdir microbiomeExplorer.buildbin-libdir && F:\biocbuild\bbs-3.17-bioc\R\bin\R.exe CMD INSTALL --build --library=microbiomeExplorer.buildbin-libdir microbiomeExplorer_1.10.0.tar.gz StartedAt: 2023-10-16 09:05:06 -0400 (Mon, 16 Oct 2023) EndedAt: 2023-10-16 09:05:31 -0400 (Mon, 16 Oct 2023) EllapsedTime: 24.8 seconds RetCode: 0 Status: OK PackageFile: microbiomeExplorer_1.10.0.zip PackageFileSize: 3.386 MiB