Package: microbiomeExplorer Version: 1.10.0 Command: /home/biocbuild/bbs-3.17-bioc/R/bin/R CMD INSTALL microbiomeExplorer StartedAt: 2023-10-15 15:41:13 -0400 (Sun, 15 Oct 2023) EndedAt: 2023-10-15 15:41:25 -0400 (Sun, 15 Oct 2023) EllapsedTime: 11.9 seconds RetCode: 0 Status: OK