Package: microbiomeExplorer Version: 1.10.0 Command: /home/biocbuild/bbs-3.17-bioc/R/bin/R CMD build --keep-empty-dirs --no-resave-data microbiomeExplorer StartedAt: 2023-10-15 17:26:15 -0400 (Sun, 15 Oct 2023) EndedAt: 2023-10-15 17:26:48 -0400 (Sun, 15 Oct 2023) EllapsedTime: 33.2 seconds RetCode: 0 Status: OK PackageFile: microbiomeExplorer_1.10.0.tar.gz PackageFileSize: 2.976 MiB