Package: microbiomeExplorer Version: 1.10.0 Command: /Library/Frameworks/R.framework/Resources/bin/R CMD INSTALL microbiomeExplorer StartedAt: 2023-10-15 16:14:32 -0400 (Sun, 15 Oct 2023) EndedAt: 2023-10-15 16:15:15 -0400 (Sun, 15 Oct 2023) EllapsedTime: 42.9 seconds RetCode: 0 Status: OK