Package: microbiomeDASim Version: 1.14.0 Command: F:\biocbuild\bbs-3.17-bioc\R\bin\R.exe CMD check --no-multiarch --install=check:microbiomeDASim.install-out.txt --library=F:\biocbuild\bbs-3.17-bioc\R\library --no-vignettes --timings microbiomeDASim_1.14.0.tar.gz StartedAt: 2023-10-16 04:05:02 -0400 (Mon, 16 Oct 2023) EndedAt: 2023-10-16 04:08:21 -0400 (Mon, 16 Oct 2023) EllapsedTime: 199.3 seconds RetCode: 0 Status: OK CheckDir: microbiomeDASim.Rcheck Warnings: 0