Package: microbiomeDASim Version: 1.14.0 Command: chmod a+r microbiomeDASim -R && F:\biocbuild\bbs-3.17-bioc\R\bin\R.exe CMD build --keep-empty-dirs --no-resave-data microbiomeDASim StartedAt: 2023-10-15 20:25:54 -0400 (Sun, 15 Oct 2023) EndedAt: 2023-10-15 20:26:45 -0400 (Sun, 15 Oct 2023) EllapsedTime: 50.9 seconds RetCode: 0 Status: OK PackageFile: microbiomeDASim_1.14.0.tar.gz PackageFileSize: 1.494 MiB