Package: microbiomeDASim Version: 1.14.0 Command: /home/biocbuild/bbs-3.17-bioc/R/bin/R CMD build --keep-empty-dirs --no-resave-data microbiomeDASim StartedAt: 2023-10-15 17:26:15 -0400 (Sun, 15 Oct 2023) EndedAt: 2023-10-15 17:26:58 -0400 (Sun, 15 Oct 2023) EllapsedTime: 43.1 seconds RetCode: 0 Status: OK PackageFile: microbiomeDASim_1.14.0.tar.gz PackageFileSize: 1.492 MiB