Package: microbiomeDASim Version: 1.14.0 Command: rm -rf microbiomeDASim.buildbin-libdir && mkdir microbiomeDASim.buildbin-libdir && /Users/biocbuild/BBS/utils/build-universal.sh microbiomeDASim_1.14.0.tar.gz /Library/Frameworks/R.framework/Resources/bin/R microbiomeDASim.buildbin-libdir StartedAt: 2023-10-16 09:43:22 -0400 (Mon, 16 Oct 2023) EndedAt: 2023-10-16 09:44:36 -0400 (Mon, 16 Oct 2023) EllapsedTime: 74.0 seconds RetCode: 0 Status: OK PackageFile: microbiomeDASim_1.14.0.tgz PackageFileSize: 1.567 MiB