Package: microbiome Version: 1.22.0 Command: chmod a+r microbiome -R && F:\biocbuild\bbs-3.17-bioc\R\bin\R.exe CMD build --keep-empty-dirs --no-resave-data microbiome StartedAt: 2023-10-15 20:25:44 -0400 (Sun, 15 Oct 2023) EndedAt: 2023-10-15 20:26:25 -0400 (Sun, 15 Oct 2023) EllapsedTime: 41.0 seconds RetCode: 0 Status: OK PackageFile: microbiome_1.22.0.tar.gz PackageFileSize: 714 KiB