Package: microbiome Version: 1.22.0 Command: /home/biocbuild/bbs-3.17-bioc/R/bin/R CMD check --install=check:microbiome.install-out.txt --library=/home/biocbuild/bbs-3.17-bioc/R/site-library --timings microbiome_1.22.0.tar.gz StartedAt: 2023-10-15 22:47:10 -0400 (Sun, 15 Oct 2023) EndedAt: 2023-10-15 22:50:32 -0400 (Sun, 15 Oct 2023) EllapsedTime: 201.1 seconds RetCode: 0 Status: OK CheckDir: microbiome.Rcheck Warnings: 0