Package: microbiome Version: 1.22.0 Command: /home/biocbuild/bbs-3.17-bioc/R/bin/R CMD build --keep-empty-dirs --no-resave-data microbiome StartedAt: 2023-10-15 17:26:14 -0400 (Sun, 15 Oct 2023) EndedAt: 2023-10-15 17:26:44 -0400 (Sun, 15 Oct 2023) EllapsedTime: 30.5 seconds RetCode: 0 Status: OK PackageFile: microbiome_1.22.0.tar.gz PackageFileSize: 714 KiB