Package: microbiome Version: 1.22.0 Command: /Library/Frameworks/R.framework/Resources/bin/R CMD build --keep-empty-dirs --no-resave-data microbiome StartedAt: 2023-10-15 19:29:18 -0400 (Sun, 15 Oct 2023) EndedAt: 2023-10-15 19:30:36 -0400 (Sun, 15 Oct 2023) EllapsedTime: 78.1 seconds RetCode: 0 Status: OK PackageFile: microbiome_1.22.0.tar.gz PackageFileSize: 714 KiB