Package: miaViz Version: 1.8.0 Command: rm -rf miaViz.buildbin-libdir && mkdir miaViz.buildbin-libdir && F:\biocbuild\bbs-3.17-bioc\R\bin\R.exe CMD INSTALL --build --library=miaViz.buildbin-libdir miaViz_1.8.0.tar.gz StartedAt: 2023-10-16 09:04:57 -0400 (Mon, 16 Oct 2023) EndedAt: 2023-10-16 09:05:45 -0400 (Mon, 16 Oct 2023) EllapsedTime: 48.0 seconds RetCode: 0 Status: OK PackageFile: miaViz_1.8.0.zip PackageFileSize: 2.04 MiB