Package: mia Version: 1.8.0 Command: /Library/Frameworks/R.framework/Resources/bin/R CMD check --install=check:mia.install-out.txt --library=/Library/Frameworks/R.framework/Resources/library --no-vignettes --timings mia_1.8.0.tar.gz StartedAt: 2023-10-16 03:51:08 -0400 (Mon, 16 Oct 2023) EndedAt: 2023-10-16 04:31:09 -0400 (Mon, 16 Oct 2023) EllapsedTime: 2400.5 seconds RetCode: None Status: TIMEOUT CheckDir: mia.Rcheck Warnings: NA