Package: mia Version: 1.8.0 Command: /Library/Frameworks/R.framework/Resources/bin/R CMD build --keep-empty-dirs --no-resave-data mia StartedAt: 2023-10-15 19:28:53 -0400 (Sun, 15 Oct 2023) EndedAt: 2023-10-15 19:32:27 -0400 (Sun, 15 Oct 2023) EllapsedTime: 213.6 seconds RetCode: 0 Status: OK PackageFile: mia_1.8.0.tar.gz PackageFileSize: 2.02 MiB