Package: miRcomp Version: 1.30.0 Command: rm -rf miRcomp.buildbin-libdir && mkdir miRcomp.buildbin-libdir && F:\biocbuild\bbs-3.17-bioc\R\bin\R.exe CMD INSTALL --build --library=miRcomp.buildbin-libdir miRcomp_1.30.0.tar.gz StartedAt: 2023-10-16 09:05:45 -0400 (Mon, 16 Oct 2023) EndedAt: 2023-10-16 09:05:54 -0400 (Mon, 16 Oct 2023) EllapsedTime: 9.2 seconds RetCode: 0 Status: OK PackageFile: miRcomp_1.30.0.zip PackageFileSize: 2.604 MiB