Package: miRcomp Version: 1.30.0 Command: /home/biocbuild/bbs-3.17-bioc/R/bin/R CMD INSTALL miRcomp StartedAt: 2023-10-15 15:33:42 -0400 (Sun, 15 Oct 2023) EndedAt: 2023-10-15 15:33:46 -0400 (Sun, 15 Oct 2023) EllapsedTime: 4.2 seconds RetCode: 0 Status: OK