Package: miRcomp Version: 1.30.0 Command: /Library/Frameworks/R.framework/Resources/bin/R CMD build --keep-empty-dirs --no-resave-data miRcomp StartedAt: 2023-10-15 19:32:33 -0400 (Sun, 15 Oct 2023) EndedAt: 2023-10-15 19:33:50 -0400 (Sun, 15 Oct 2023) EllapsedTime: 77.4 seconds RetCode: 0 Status: OK PackageFile: miRcomp_1.30.0.tar.gz PackageFileSize: 3.287 MiB