Package: miRSM Version: 1.18.0 Command: /home/biocbuild/bbs-3.17-bioc/R/bin/R CMD INSTALL miRSM StartedAt: 2023-10-15 15:50:32 -0400 (Sun, 15 Oct 2023) EndedAt: 2023-10-15 15:51:26 -0400 (Sun, 15 Oct 2023) EllapsedTime: 54.5 seconds RetCode: 0 Status: OK