Package: miRNAtap Version: 1.34.0 Command: chmod a+r miRNAtap -R && F:\biocbuild\bbs-3.17-bioc\R\bin\R.exe CMD build --keep-empty-dirs --no-resave-data miRNAtap StartedAt: 2023-10-15 20:30:00 -0400 (Sun, 15 Oct 2023) EndedAt: 2023-10-15 20:36:43 -0400 (Sun, 15 Oct 2023) EllapsedTime: 402.7 seconds RetCode: 0 Status: OK PackageFile: miRNAtap_1.34.0.tar.gz PackageFileSize: 102 KiB