Package: miRNAtap Version: 1.34.0 Command: /home/biocbuild/bbs-3.17-bioc/R/bin/R CMD check --install=check:miRNAtap.install-out.txt --library=/home/biocbuild/bbs-3.17-bioc/R/site-library --timings miRNAtap_1.34.0.tar.gz StartedAt: 2023-10-15 22:53:40 -0400 (Sun, 15 Oct 2023) EndedAt: 2023-10-15 22:56:04 -0400 (Sun, 15 Oct 2023) EllapsedTime: 143.3 seconds RetCode: 0 Status: OK CheckDir: miRNAtap.Rcheck Warnings: 0