Package: miRNAtap Version: 1.34.0 Command: /Library/Frameworks/R.framework/Resources/bin/R CMD check --install=check:miRNAtap.install-out.txt --library=/Library/Frameworks/R.framework/Resources/library --no-vignettes --timings miRNAtap_1.34.0.tar.gz StartedAt: 2023-10-16 04:02:09 -0400 (Mon, 16 Oct 2023) EndedAt: 2023-10-16 04:07:08 -0400 (Mon, 16 Oct 2023) EllapsedTime: 298.7 seconds RetCode: 0 Status: OK CheckDir: miRNAtap.Rcheck Warnings: 0