Package: miRNAtap Version: 1.34.0 Command: /Library/Frameworks/R.framework/Resources/bin/R CMD build --keep-empty-dirs --no-resave-data miRNAtap StartedAt: 2023-10-15 19:33:16 -0400 (Sun, 15 Oct 2023) EndedAt: 2023-10-15 19:34:52 -0400 (Sun, 15 Oct 2023) EllapsedTime: 95.3 seconds RetCode: 0 Status: OK PackageFile: miRNAtap_1.34.0.tar.gz PackageFileSize: 223.2 KiB