Package: miRNAtap Version: 1.34.0 Command: rm -rf miRNAtap.buildbin-libdir && mkdir miRNAtap.buildbin-libdir && /Users/biocbuild/BBS/utils/build-universal.sh miRNAtap_1.34.0.tar.gz /Library/Frameworks/R.framework/Resources/bin/R miRNAtap.buildbin-libdir StartedAt: 2023-10-16 09:44:41 -0400 (Mon, 16 Oct 2023) EndedAt: 2023-10-16 09:45:41 -0400 (Mon, 16 Oct 2023) EllapsedTime: 59.9 seconds RetCode: 0 Status: OK PackageFile: miRNAtap_1.34.0.tgz PackageFileSize: 569.5 KiB