Package: miRNApath Version: 1.60.0 Command: rm -rf miRNApath.buildbin-libdir && mkdir miRNApath.buildbin-libdir && F:\biocbuild\bbs-3.17-bioc\R\bin\R.exe CMD INSTALL --build --library=miRNApath.buildbin-libdir miRNApath_1.60.0.tar.gz StartedAt: 2023-10-16 09:05:58 -0400 (Mon, 16 Oct 2023) EndedAt: 2023-10-16 09:06:04 -0400 (Mon, 16 Oct 2023) EllapsedTime: 6.4 seconds RetCode: 0 Status: OK PackageFile: miRNApath_1.60.0.zip PackageFileSize: 720.6 KiB