Package: miRNApath Version: 1.60.0 Command: /home/biocbuild/bbs-3.17-bioc/R/bin/R CMD INSTALL miRNApath StartedAt: 2023-10-15 15:06:45 -0400 (Sun, 15 Oct 2023) EndedAt: 2023-10-15 15:06:54 -0400 (Sun, 15 Oct 2023) EllapsedTime: 8.5 seconds RetCode: 0 Status: OK