Package: miRNApath Version: 1.60.0 Command: /home/biocbuild/bbs-3.17-bioc/R/bin/R CMD check --install=check:miRNApath.install-out.txt --library=/home/biocbuild/bbs-3.17-bioc/R/site-library --timings miRNApath_1.60.0.tar.gz StartedAt: 2023-10-15 22:53:25 -0400 (Sun, 15 Oct 2023) EndedAt: 2023-10-15 22:54:27 -0400 (Sun, 15 Oct 2023) EllapsedTime: 61.7 seconds RetCode: 0 Status: OK CheckDir: miRNApath.Rcheck Warnings: 0