Package: miRNApath Version: 1.60.0 Command: /home/biocbuild/bbs-3.17-bioc/R/bin/R CMD build --keep-empty-dirs --no-resave-data miRNApath StartedAt: 2023-10-15 17:28:31 -0400 (Sun, 15 Oct 2023) EndedAt: 2023-10-15 17:28:45 -0400 (Sun, 15 Oct 2023) EllapsedTime: 13.6 seconds RetCode: 0 Status: OK PackageFile: miRNApath_1.60.0.tar.gz PackageFileSize: 546.8 KiB