Package: miRNApath Version: 1.60.0 Command: /Library/Frameworks/R.framework/Resources/bin/R CMD check --install=check:miRNApath.install-out.txt --library=/Library/Frameworks/R.framework/Resources/library --no-vignettes --timings miRNApath_1.60.0.tar.gz StartedAt: 2023-10-16 04:01:08 -0400 (Mon, 16 Oct 2023) EndedAt: 2023-10-16 04:03:05 -0400 (Mon, 16 Oct 2023) EllapsedTime: 117.7 seconds RetCode: 0 Status: OK CheckDir: miRNApath.Rcheck Warnings: 0