Package: miRNApath Version: 1.60.0 Command: /Library/Frameworks/R.framework/Resources/bin/R CMD build --keep-empty-dirs --no-resave-data miRNApath StartedAt: 2023-10-15 19:32:55 -0400 (Sun, 15 Oct 2023) EndedAt: 2023-10-15 19:33:33 -0400 (Sun, 15 Oct 2023) EllapsedTime: 37.6 seconds RetCode: 0 Status: OK PackageFile: miRNApath_1.60.0.tar.gz PackageFileSize: 662.4 KiB