Package: miRNApath Version: 1.60.0 Command: rm -rf miRNApath.buildbin-libdir && mkdir miRNApath.buildbin-libdir && /Users/biocbuild/BBS/utils/build-universal.sh miRNApath_1.60.0.tar.gz /Library/Frameworks/R.framework/Resources/bin/R miRNApath.buildbin-libdir StartedAt: 2023-10-16 09:44:36 -0400 (Mon, 16 Oct 2023) EndedAt: 2023-10-16 09:44:45 -0400 (Mon, 16 Oct 2023) EllapsedTime: 9.1 seconds RetCode: 0 Status: OK PackageFile: miRNApath_1.60.0.tgz PackageFileSize: 831.6 KiB