Package: miRNAmeConverter Version: 1.28.0 Command: /Library/Frameworks/R.framework/Resources/bin/R CMD INSTALL miRNAmeConverter StartedAt: 2023-10-15 15:26:51 -0400 (Sun, 15 Oct 2023) EndedAt: 2023-10-15 15:27:49 -0400 (Sun, 15 Oct 2023) EllapsedTime: 57.6 seconds RetCode: 0 Status: OK