Package: miRNAmeConverter Version: 1.28.0 Command: /Library/Frameworks/R.framework/Resources/bin/R CMD check --install=check:miRNAmeConverter.install-out.txt --library=/Library/Frameworks/R.framework/Resources/library --no-vignettes --timings miRNAmeConverter_1.28.0.tar.gz StartedAt: 2023-10-16 04:01:01 -0400 (Mon, 16 Oct 2023) EndedAt: 2023-10-16 04:05:46 -0400 (Mon, 16 Oct 2023) EllapsedTime: 285.2 seconds RetCode: 0 Status: WARNINGS CheckDir: miRNAmeConverter.Rcheck Warnings: 1