Package: miRLAB Version: 1.30.0 Command: F:\biocbuild\bbs-3.17-bioc\R\bin\R.exe CMD INSTALL miRLAB StartedAt: 2023-10-15 16:39:31 -0400 (Sun, 15 Oct 2023) EndedAt: 2023-10-15 16:40:12 -0400 (Sun, 15 Oct 2023) EllapsedTime: 41.2 seconds RetCode: 0 Status: OK