Package: miRLAB Version: 1.30.0 Command: /home/biocbuild/bbs-3.17-bioc/R/bin/R CMD INSTALL miRLAB StartedAt: 2023-10-15 15:35:50 -0400 (Sun, 15 Oct 2023) EndedAt: 2023-10-15 15:36:22 -0400 (Sun, 15 Oct 2023) EllapsedTime: 32.1 seconds RetCode: 0 Status: OK