Package: miRLAB Version: 1.30.0 Command: /home/biocbuild/bbs-3.17-bioc/R/bin/R CMD check --install=check:miRLAB.install-out.txt --library=/home/biocbuild/bbs-3.17-bioc/R/site-library --timings miRLAB_1.30.0.tar.gz StartedAt: 2023-10-15 22:52:47 -0400 (Sun, 15 Oct 2023) EndedAt: 2023-10-15 22:56:25 -0400 (Sun, 15 Oct 2023) EllapsedTime: 218.3 seconds RetCode: 0 Status: WARNINGS CheckDir: miRLAB.Rcheck Warnings: 1