Package: miRLAB Version: 1.30.0 Command: /home/biocbuild/bbs-3.17-bioc/R/bin/R CMD build --keep-empty-dirs --no-resave-data miRLAB StartedAt: 2023-10-15 17:28:20 -0400 (Sun, 15 Oct 2023) EndedAt: 2023-10-15 17:28:53 -0400 (Sun, 15 Oct 2023) EllapsedTime: 33.1 seconds RetCode: 0 Status: OK PackageFile: miRLAB_1.30.0.tar.gz PackageFileSize: 192.2 KiB