Package: miRLAB Version: 1.30.0 Command: /Library/Frameworks/R.framework/Resources/bin/R CMD INSTALL miRLAB StartedAt: 2023-10-15 16:03:28 -0400 (Sun, 15 Oct 2023) EndedAt: 2023-10-15 16:05:17 -0400 (Sun, 15 Oct 2023) EllapsedTime: 109.1 seconds RetCode: 0 Status: OK