Package: miRLAB Version: 1.30.0 Command: /Library/Frameworks/R.framework/Resources/bin/R CMD check --install=check:miRLAB.install-out.txt --library=/Library/Frameworks/R.framework/Resources/library --no-vignettes --timings miRLAB_1.30.0.tar.gz StartedAt: 2023-10-16 04:00:34 -0400 (Mon, 16 Oct 2023) EndedAt: 2023-10-16 04:10:04 -0400 (Mon, 16 Oct 2023) EllapsedTime: 570.3 seconds RetCode: 0 Status: WARNINGS CheckDir: miRLAB.Rcheck Warnings: 1