Package: miQC Version: 1.8.0 Command: /home/biocbuild/bbs-3.17-bioc/R/bin/R CMD check --install=check:miQC.install-out.txt --library=/home/biocbuild/bbs-3.17-bioc/R/site-library --timings miQC_1.8.0.tar.gz StartedAt: 2023-10-15 22:51:54 -0400 (Sun, 15 Oct 2023) EndedAt: 2023-10-15 22:56:54 -0400 (Sun, 15 Oct 2023) EllapsedTime: 299.9 seconds RetCode: 0 Status: OK CheckDir: miQC.Rcheck Warnings: 0