Package: miQC Version: 1.8.0 Command: /Library/Frameworks/R.framework/Resources/bin/R CMD INSTALL miQC StartedAt: 2023-10-15 15:16:50 -0400 (Sun, 15 Oct 2023) EndedAt: 2023-10-15 15:18:05 -0400 (Sun, 15 Oct 2023) EllapsedTime: 74.7 seconds RetCode: 0 Status: OK