Package: miQC Version: 1.8.0 Command: /Library/Frameworks/R.framework/Resources/bin/R CMD check --install=check:miQC.install-out.txt --library=/Library/Frameworks/R.framework/Resources/library --no-vignettes --timings miQC_1.8.0.tar.gz StartedAt: 2023-10-16 03:57:04 -0400 (Mon, 16 Oct 2023) EndedAt: 2023-10-16 04:06:31 -0400 (Mon, 16 Oct 2023) EllapsedTime: 567.3 seconds RetCode: 0 Status: OK CheckDir: miQC.Rcheck Warnings: 0