Package: miQC Version: 1.8.0 Command: rm -rf miQC.buildbin-libdir && mkdir miQC.buildbin-libdir && /Users/biocbuild/BBS/utils/build-universal.sh miQC_1.8.0.tar.gz /Library/Frameworks/R.framework/Resources/bin/R miQC.buildbin-libdir StartedAt: 2023-10-16 09:44:14 -0400 (Mon, 16 Oct 2023) EndedAt: 2023-10-16 09:45:27 -0400 (Mon, 16 Oct 2023) EllapsedTime: 72.2 seconds RetCode: 0 Status: OK PackageFile: miQC_1.8.0.tgz PackageFileSize: 2.815 MiB